BEGIN:VCALENDAR
VERSION:2.0
PRODID:spatie/icalendar-generator
DESCRIPTION:Veranstaltungen von Bielersee Tourismus
X-WR-CALDESC:Veranstaltungen von Bielersee Tourismus
REFRESH-INTERVAL;VALUE=DURATION:PT1440M
X-PUBLISHED-TTL:PT1440M
BEGIN:VTIMEZONE
TZID:Etc/GMT+0
BEGIN:STANDARD
DTSTART:20211124T000000Z
TZOFFSETFROM:+0000
TZOFFSETTO:+0000
END:STANDARD
END:VTIMEZONE
BEGIN:VTIMEZONE
TZID:UTC
BEGIN:STANDARD
DTSTART:20250726T002342Z
TZOFFSETFROM:+0000
TZOFFSETTO:+0000
END:STANDARD
END:VTIMEZONE
BEGIN:VEVENT
UID:389-335
DTSTAMP:20260422T002342Z
SUMMARY:Räbewäg Wybar / Bar de vignes
LOCATION:
ORGANIZER;CN=admin:MAILTO:admin@bielersee-tourismus.ch
DTSTART;TZID=Etc/GMT+0;VALUE=DATE:20220821
DTEND;TZID=Etc/GMT+0;VALUE=DATE:20220822
X-ALT-DESC;FMTTYPE=TEXT/HTML:[pdf-embedder url=\"https://bielersee-tourismu
 s.ch/wp-content/uploads/2022/05/merged-Wybar-22.pdf\" title=\"merged Wybar
  22\"]
CATEGORIES:General
URL;VALUE=URI:https://bielersee-tourismus.ch/mc-events/raebewaeg-wybar-bar-
 de-vignes-6/
METHOD:PUBLISH
END:VEVENT
END:VCALENDAR