BEGIN:VCALENDAR
VERSION:2.0
PRODID:spatie/icalendar-generator
DESCRIPTION:Veranstaltungen von Bielersee Tourismus
X-WR-CALDESC:Veranstaltungen von Bielersee Tourismus
REFRESH-INTERVAL;VALUE=DURATION:PT1440M
X-PUBLISHED-TTL:PT1440M
BEGIN:VTIMEZONE
TZID:Etc/GMT+0
BEGIN:STANDARD
DTSTART:20211012T000000Z
TZOFFSETFROM:+0000
TZOFFSETTO:+0000
END:STANDARD
END:VTIMEZONE
BEGIN:VTIMEZONE
TZID:UTC
BEGIN:STANDARD
DTSTART:20250726T000513Z
TZOFFSETFROM:+0000
TZOFFSETTO:+0000
END:STANDARD
END:VTIMEZONE
BEGIN:VEVENT
UID:198-165
DTSTAMP:20260422T000513Z
SUMMARY:Lakesplash Reggae Openair
LOCATION:
ORGANIZER;CN=admin:MAILTO:admin@bielersee-tourismus.ch
DTSTART;TZID=Etc/GMT+0;VALUE=DATE:20220709
DTEND;TZID=Etc/GMT+0;VALUE=DATE:20220710
X-ALT-DESC;FMTTYPE=TEXT/HTML:Das gemütlichste und älteste Reggae Openair 
 der Schweiz: Das legendäre Lakesplash Festival in Twann am Bielersee freu
 t sich auf eine weitere Ausgabe am 8. &amp;amp\; 9. Juli 2022. Eines ist siche
 r – die romantische und idyllische Seeufer-Lage des Festival-Geländes m
 achen das Openair absolut speziell und verhelfen zu einem einzigartigen 
 „Jamaican-Holiday-Feeling“. Lakesplash.ch
CATEGORIES:General
URL;VALUE=URI:https://bielersee-tourismus.ch/mc-events/lakesplash-reggae-op
 enair-2/
METHOD:PUBLISH
END:VEVENT
END:VCALENDAR