BEGIN:VCALENDAR
VERSION:2.0
PRODID:spatie/icalendar-generator
DESCRIPTION:Veranstaltungen von Bielersee Tourismus
X-WR-CALDESC:Veranstaltungen von Bielersee Tourismus
REFRESH-INTERVAL;VALUE=DURATION:PT1440M
X-PUBLISHED-TTL:PT1440M
BEGIN:VTIMEZONE
TZID:Etc/GMT+0
BEGIN:STANDARD
DTSTART:20210502T194500Z
TZOFFSETFROM:+0000
TZOFFSETTO:+0000
END:STANDARD
END:VTIMEZONE
BEGIN:VTIMEZONE
TZID:UTC
BEGIN:STANDARD
DTSTART:20250726T015046Z
TZOFFSETFROM:+0000
TZOFFSETTO:+0000
END:STANDARD
END:VTIMEZONE
BEGIN:VEVENT
UID:171-140
DTSTAMP:20260422T015046Z
SUMMARY:KirchenKino
LOCATION:
ORGANIZER;CN=admin:MAILTO:admin@bielersee-tourismus.ch
DTSTART;TZID=Etc/GMT+0:20220127T194500
DTEND;TZID=Etc/GMT+0:20220127T220000
X-ALT-DESC;FMTTYPE=TEXT/HTML:Engel Haus Twann 27.01.2022 19:45 - 22:00 [pdf
 -embedder url=\"https://bielersee-tourismus.ch/wp-content/uploads/2022/01/
 ChileKino-auf-das-Leben.pdf\" title=\"ChileKino auf das Leben\"] Kontakt: 
 Kirchgemeinde und Engel Haus Kultur Verena Jenzer vjenzer@bluewin.ch www.z
 uhauseambielersee.ch/kultur/
CATEGORIES:General
URL;VALUE=URI:https://bielersee-tourismus.ch/mc-events/kirchenkino-11/
METHOD:PUBLISH
END:VEVENT
END:VCALENDAR