BEGIN:VCALENDAR
VERSION:2.0
PRODID:spatie/icalendar-generator
DESCRIPTION:Veranstaltungen von Bielersee Tourismus
X-WR-CALDESC:Veranstaltungen von Bielersee Tourismus
REFRESH-INTERVAL;VALUE=DURATION:PT1440M
X-PUBLISHED-TTL:PT1440M
BEGIN:VTIMEZONE
TZID:Etc/GMT+0
BEGIN:STANDARD
DTSTART:20210314T150000Z
TZOFFSETFROM:+0000
TZOFFSETTO:+0000
END:STANDARD
END:VTIMEZONE
BEGIN:VTIMEZONE
TZID:UTC
BEGIN:STANDARD
DTSTART:20250726T002823Z
TZOFFSETFROM:+0000
TZOFFSETTO:+0000
END:STANDARD
END:VTIMEZONE
BEGIN:VEVENT
UID:137-62
DTSTAMP:20260422T002823Z
SUMMARY:Abgesagt: Adventsfeier in Twann für Senioren ab 70 Jahren
LOCATION:
ORGANIZER;CN=admin:MAILTO:admin@bielersee-tourismus.ch
DTSTART;TZID=Etc/GMT+0:20211209T150000
DTEND;TZID=Etc/GMT+0:20211209T170000
X-ALT-DESC;FMTTYPE=TEXT/HTML:[pdf-embedder url=\"https://bielersee-tourismu
 s.ch/wp-content/uploads/2021/12/Einladung-zur-Adventsfeier-2021-abgesagt.p
 df\" title=\"Einladung zur Adventsfeier 2021 - abgesagt\"] Kontakt: Frauen
 verein Twann Ursula Kaltenrieder\, Sekretariat 079 786 44 16 frauenvereint
 wann@gmail.com
CATEGORIES:General
URL;VALUE=URI:https://bielersee-tourismus.ch/mc-events/abgesagt-adventsfeie
 r-in-twann-fuer-senioren-ab-70-jahren/
METHOD:PUBLISH
END:VEVENT
END:VCALENDAR