BEGIN:VCALENDAR
VERSION:2.0
PRODID:spatie/icalendar-generator
DESCRIPTION:Veranstaltungen von Bielersee Tourismus
X-WR-CALDESC:Veranstaltungen von Bielersee Tourismus
REFRESH-INTERVAL;VALUE=DURATION:PT1440M
X-PUBLISHED-TTL:PT1440M
BEGIN:VTIMEZONE
TZID:Etc/GMT+0
BEGIN:STANDARD
DTSTART:20210622T000000Z
TZOFFSETFROM:+0000
TZOFFSETTO:+0000
END:STANDARD
END:VTIMEZONE
BEGIN:VTIMEZONE
TZID:UTC
BEGIN:STANDARD
DTSTART:20250726T000504Z
TZOFFSETFROM:+0000
TZOFFSETTO:+0000
END:STANDARD
END:VTIMEZONE
BEGIN:VEVENT
UID:123-96
DTSTAMP:20260422T000504Z
SUMMARY:Stockschneiden
LOCATION:
ORGANIZER;CN=admin:MAILTO:admin@bielersee-tourismus.ch
DTSTART;TZID=Etc/GMT+0;VALUE=DATE:20220319
DTEND;TZID=Etc/GMT+0;VALUE=DATE:20220320
X-ALT-DESC;FMTTYPE=TEXT/HTML:Das nächste Rebstockschneiden finden am Samst
 ag\, 19.März 2022 statt\, sofern Corona uns nicht wieder einen Strich dur
 ch die Rechnung macht! Es wird ein Stockschneiden nach einem neu gestaltet
 en Programm geben. Wir freuen uns\, Euch alle in Twann begrüssen zu dürf
 en. Wir alle hoffen\, dass wir im Jahr 2022 das Stockschneiden nach dem ne
 u gestalteten Programm&amp;hellip\;
CATEGORIES:General
URL;VALUE=URI:https://bielersee-tourismus.ch/mc-events/stockschneiden/
METHOD:PUBLISH
END:VEVENT
END:VCALENDAR