BEGIN:VCALENDAR
VERSION:2.0
PRODID:spatie/icalendar-generator
DESCRIPTION:Veranstaltungen von Bielersee Tourismus
X-WR-CALDESC:Veranstaltungen von Bielersee Tourismus
REFRESH-INTERVAL;VALUE=DURATION:PT1440M
X-PUBLISHED-TTL:PT1440M
BEGIN:VTIMEZONE
TZID:Etc/GMT+0
BEGIN:STANDARD
DTSTART:20230927T000000Z
TZOFFSETFROM:+0000
TZOFFSETTO:+0000
END:STANDARD
END:VTIMEZONE
BEGIN:VTIMEZONE
TZID:UTC
BEGIN:STANDARD
DTSTART:20250728T101942Z
TZOFFSETFROM:+0000
TZOFFSETTO:+0000
END:STANDARD
END:VTIMEZONE
BEGIN:VEVENT
UID:1132-1031
DTSTAMP:20260424T101942Z
SUMMARY:Rebbaumuseum
LOCATION:
ORGANIZER;CN=admin:MAILTO:admin@bielersee-tourismus.ch
DTSTART;TZID=Etc/GMT+0;VALUE=DATE:20240623
DTEND;TZID=Etc/GMT+0;VALUE=DATE:20240624
X-ALT-DESC;FMTTYPE=TEXT/HTML:Rebbaumuseum Das Rebbaumuseum am Bielersee ist
  vom Sonntag 28. April 2024 bis Sonntag 27. Oktober 2024 jeweils Sa und So
  von 13.30 h bis 17 h geöffnet. [pdf-embedder url=\"https://bielersee-tou
 rismus.ch/wp-content/uploads/2024/04/Hof-Ausstellung-2024.pdf\"] https://w
 ww.rebbaumuseum.ch/de/
CATEGORIES:General
URL;VALUE=URI:https://bielersee-tourismus.ch/mc-events/rebbaumuseum-71/
METHOD:PUBLISH
END:VEVENT
END:VCALENDAR