BEGIN:VCALENDAR
VERSION:2.0
PRODID:spatie/icalendar-generator
DESCRIPTION:Veranstaltungen von Bielersee Tourismus
X-WR-CALDESC:Veranstaltungen von Bielersee Tourismus
REFRESH-INTERVAL;VALUE=DURATION:PT1440M
X-PUBLISHED-TTL:PT1440M
BEGIN:VTIMEZONE
TZID:Etc/GMT+0
BEGIN:STANDARD
DTSTART:20210126T000000Z
TZOFFSETFROM:+0000
TZOFFSETTO:+0000
END:STANDARD
END:VTIMEZONE
BEGIN:VTIMEZONE
TZID:UTC
BEGIN:STANDARD
DTSTART:20250726T022010Z
TZOFFSETFROM:+0000
TZOFFSETTO:+0000
END:STANDARD
END:VTIMEZONE
BEGIN:VEVENT
UID:111-86
DTSTAMP:20260422T022010Z
SUMMARY:Ausstellung mit Bildern von Marianne Engel
LOCATION:
ORGANIZER;CN=admin:MAILTO:admin@bielersee-tourismus.ch
DTSTART;TZID=Etc/GMT+0;VALUE=DATE:20211023
DTEND;TZID=Etc/GMT+0;VALUE=DATE:20211024
X-ALT-DESC;FMTTYPE=TEXT/HTML:[pdf-embedder url=\"https://bielersee-tourismu
 s.ch/wp-content/uploads/2021/09/Marianne-Engel-6.pdf\" title=\"Marianne En
 gel 6\"] &amp;nbsp\; Dazu Bilder und Mosaike ihrer (Gross)Tanten Ida und Rita 
 Engel 15.Oktober - 6.November 2021 jeweils Samstag/Sonntag
CATEGORIES:General
URL;VALUE=URI:https://bielersee-tourismus.ch/mc-events/ausstellung-mit-bild
 ern-von-marianne-engel-4/
METHOD:PUBLISH
END:VEVENT
END:VCALENDAR