BEGIN:VCALENDAR
VERSION:2.0
PRODID:spatie/icalendar-generator
DESCRIPTION:Veranstaltungen von Bielersee Tourismus
X-WR-CALDESC:Veranstaltungen von Bielersee Tourismus
REFRESH-INTERVAL;VALUE=DURATION:PT1440M
X-PUBLISHED-TTL:PT1440M
BEGIN:VTIMEZONE
TZID:Etc/GMT+0
BEGIN:STANDARD
DTSTART:20240330T000000Z
TZOFFSETFROM:+0000
TZOFFSETTO:+0000
END:STANDARD
END:VTIMEZONE
BEGIN:VTIMEZONE
TZID:UTC
BEGIN:STANDARD
DTSTART:20250728T170144Z
TZOFFSETFROM:+0000
TZOFFSETTO:+0000
END:STANDARD
END:VTIMEZONE
BEGIN:VEVENT
UID:971-879
DTSTAMP:20260424T170144Z
SUMMARY:Weihnachts-Gottesdienst
LOCATION:
ORGANIZER;CN=admin:MAILTO:admin@bielersee-tourismus.ch
DTSTART;TZID=Etc/GMT+0;VALUE=DATE:20241225
DTEND;TZID=Etc/GMT+0;VALUE=DATE:20241226
X-ALT-DESC;FMTTYPE=TEXT/HTML:Weihnachts-Gottesdienst Kirche Twann\,  25. D
 ezember\, 10.15 Uhr Kirchgemeinde Pilgerweg Bielersee
CATEGORIES:General
URL;VALUE=URI:https://bielersee-tourismus.ch/mc-events/weihnachts-gottesdie
 nst/
METHOD:PUBLISH
END:VEVENT
END:VCALENDAR