BEGIN:VCALENDAR
VERSION:2.0
PRODID:spatie/icalendar-generator
DESCRIPTION:Veranstaltungen von Bielersee Tourismus
X-WR-CALDESC:Veranstaltungen von Bielersee Tourismus
REFRESH-INTERVAL;VALUE=DURATION:PT1440M
X-PUBLISHED-TTL:PT1440M
BEGIN:VTIMEZONE
TZID:Etc/GMT+0
BEGIN:STANDARD
DTSTART:20210609T171500Z
TZOFFSETFROM:+0000
TZOFFSETTO:+0000
END:STANDARD
END:VTIMEZONE
BEGIN:VTIMEZONE
TZID:UTC
BEGIN:STANDARD
DTSTART:20250726T021645Z
TZOFFSETFROM:+0000
TZOFFSETTO:+0000
END:STANDARD
END:VTIMEZONE
BEGIN:VEVENT
UID:82-69
DTSTAMP:20260422T021645Z
SUMMARY:Konzertreihe „Ladies first II“ – Angelus Novus
LOCATION:
ORGANIZER;CN=admin:MAILTO:admin@bielersee-tourismus.ch
DTSTART;TZID=Etc/GMT+0:20220306T171500
DTEND;TZID=Etc/GMT+0:20220306T181500
X-ALT-DESC;FMTTYPE=TEXT/HTML:06.03.2022 17:15 Aarbergerhus Ligerz Flyer 202
 1/2022 Angelus Novus HannaH Walter\, Violine und Cyborg-Violine Von femini
 stischen Klangfiltern und Fiktionen\, von Löchern in Raum und Zeit. Eine 
 telematische Reise eines letzten nomadischen Engels der Geschichte\, der a
 us der Zukunft die Vergangenheit heimsucht.
CATEGORIES:General
URL;VALUE=URI:https://bielersee-tourismus.ch/mc-events/konzertreihe-ladies-
 first-ii-angelus-novus/
METHOD:PUBLISH
END:VEVENT
END:VCALENDAR