BEGIN:VCALENDAR
VERSION:2.0
PRODID:spatie/icalendar-generator
DESCRIPTION:Veranstaltungen von Bielersee Tourismus
X-WR-CALDESC:Veranstaltungen von Bielersee Tourismus
REFRESH-INTERVAL;VALUE=DURATION:PT1440M
X-PUBLISHED-TTL:PT1440M
BEGIN:VTIMEZONE
TZID:Etc/GMT+0
BEGIN:STANDARD
DTSTART:20230305T000000Z
TZOFFSETFROM:+0000
TZOFFSETTO:+0000
END:STANDARD
END:VTIMEZONE
BEGIN:VTIMEZONE
TZID:UTC
BEGIN:STANDARD
DTSTART:20250724T023744Z
TZOFFSETFROM:+0000
TZOFFSETTO:+0000
END:STANDARD
END:VTIMEZONE
BEGIN:VEVENT
UID:487-432
DTSTAMP:20260420T023744Z
SUMMARY:KirchenKino
LOCATION:
ORGANIZER;CN=admin:MAILTO:admin@bielersee-tourismus.ch
DTSTART;TZID=Etc/GMT+0;VALUE=DATE:20231130
DTEND;TZID=Etc/GMT+0;VALUE=DATE:20231201
X-ALT-DESC;FMTTYPE=TEXT/HTML:[pdf-embedder url=\"https://bielersee-tourismu
 s.ch/wp-content/uploads/2023/10/Lucienne-Lanaz.pdf\" title=\"Lucienne Lana
 z\"]
CATEGORIES:General
URL;VALUE=URI:https://bielersee-tourismus.ch/mc-events/kirchenkino-23/
METHOD:PUBLISH
END:VEVENT
END:VCALENDAR