BEGIN:VCALENDAR
VERSION:2.0
PRODID:spatie/icalendar-generator
DESCRIPTION:Veranstaltungen von Bielersee Tourismus
X-WR-CALDESC:Veranstaltungen von Bielersee Tourismus
REFRESH-INTERVAL;VALUE=DURATION:PT1440M
X-PUBLISHED-TTL:PT1440M
BEGIN:VTIMEZONE
TZID:Etc/GMT+0
BEGIN:STANDARD
DTSTART:20210809T000000Z
TZOFFSETFROM:+0000
TZOFFSETTO:+0000
END:STANDARD
END:VTIMEZONE
BEGIN:VTIMEZONE
TZID:UTC
BEGIN:STANDARD
DTSTART:20250725T083802Z
TZOFFSETFROM:+0000
TZOFFSETTO:+0000
END:STANDARD
END:VTIMEZONE
BEGIN:VEVENT
UID:368-314
DTSTAMP:20260421T083802Z
SUMMARY:\"Pfunggeli\" Familientheater für Klein und Gross (ab 3 bis 99 Jah
 re)
LOCATION:
ORGANIZER;CN=admin:MAILTO:admin@bielersee-tourismus.ch
DTSTART;TZID=Etc/GMT+0;VALUE=DATE:20220506
DTEND;TZID=Etc/GMT+0;VALUE=DATE:20220507
X-ALT-DESC;FMTTYPE=TEXT/HTML:\"Pfunggeli\" Familientheater für Klein und G
 ross (ab 3 bis 99 Jahre) [pdf-embedder url=\"https://bielersee-tourismus.c
 h/wp-content/uploads/2022/04/Pfunggeli_A4.pdf\"] Freitag\, 6. Mai 2022 16:
 00 Uhr Rebhalle\, Twann Die Sonnenzwerge Toto und Nunu erhalten von der So
 nne den Auftrag\, auf der Erde die Menschenkinder zu besuchen und ihnen he
 lles Licht\, Wärme\, Freude\, Geschichten und Unterhaltung zu bringen. 
 „Pfunggeli“ ist ein liebevolles\, interaktives&amp;hellip\;
CATEGORIES:General
URL;VALUE=URI:https://bielersee-tourismus.ch/mc-events/pfunggeli-familienth
 eater-fuer-klein-und-gross-ab-3-bis-99-jahre/
METHOD:PUBLISH
END:VEVENT
END:VCALENDAR