BEGIN:VCALENDAR
VERSION:2.0
PRODID:spatie/icalendar-generator
DESCRIPTION:Veranstaltungen von Bielersee Tourismus
X-WR-CALDESC:Veranstaltungen von Bielersee Tourismus
REFRESH-INTERVAL;VALUE=DURATION:PT1440M
X-PUBLISHED-TTL:PT1440M
BEGIN:VTIMEZONE
TZID:Etc/GMT+0
BEGIN:STANDARD
DTSTART:20210811T000000Z
TZOFFSETFROM:+0000
TZOFFSETTO:+0000
END:STANDARD
END:VTIMEZONE
BEGIN:VTIMEZONE
TZID:UTC
BEGIN:STANDARD
DTSTART:20250726T022456Z
TZOFFSETFROM:+0000
TZOFFSETTO:+0000
END:STANDARD
END:VTIMEZONE
BEGIN:VEVENT
UID:367-313
DTSTAMP:20260422T022456Z
SUMMARY:Das Strandbad Rostele eröffnet die Badesaison wie üblich am Mutte
 rtag\, am 08.05.2022.
LOCATION:
ORGANIZER;CN=admin:MAILTO:admin@bielersee-tourismus.ch
DTSTART;TZID=Etc/GMT+0;VALUE=DATE:20220508
DTEND;TZID=Etc/GMT+0;VALUE=DATE:20220509
X-ALT-DESC;FMTTYPE=TEXT/HTML:Die überschaubare Twanner Badi befindet sich 
 etwas östlich des Dorfzentrums und wartet mit einer gepflegten Liegewiese
 \, Schattenbäumen und Tischtennis auf. Ein 2m-Sprungbrett ladet zum Sprun
 g in den See und zum Schwumm hinaus.
CATEGORIES:General
URL;VALUE=URI:https://bielersee-tourismus.ch/mc-events/das-strandbad-rostel
 e-eroeffnet-die-badesaison-wie-ueblich-am-muttertag-am-08-05-2022/
METHOD:PUBLISH
END:VEVENT
END:VCALENDAR