BEGIN:VCALENDAR
VERSION:2.0
PRODID:spatie/icalendar-generator
DESCRIPTION:Veranstaltungen von Bielersee Tourismus
X-WR-CALDESC:Veranstaltungen von Bielersee Tourismus
REFRESH-INTERVAL;VALUE=DURATION:PT1440M
X-PUBLISHED-TTL:PT1440M
BEGIN:VTIMEZONE
TZID:Etc/GMT+0
BEGIN:STANDARD
DTSTART:20210120T110000Z
TZOFFSETFROM:+0000
TZOFFSETTO:+0000
END:STANDARD
END:VTIMEZONE
BEGIN:VTIMEZONE
TZID:UTC
BEGIN:STANDARD
DTSTART:20250726T015137Z
TZOFFSETFROM:+0000
TZOFFSETTO:+0000
END:STANDARD
END:VTIMEZONE
BEGIN:VEVENT
UID:33-23
DTSTAMP:20260422T015137Z
SUMMARY:Räbebeizli zum Leuestei
LOCATION:
ORGANIZER;CN=admin:MAILTO:admin@bielersee-tourismus.ch
DTSTART;TZID=Etc/GMT+0:20211017T110000
DTEND;TZID=Etc/GMT+0:20211017T180000
X-ALT-DESC;FMTTYPE=TEXT/HTML:Trüelerzunft Twann Bruno Engel 032 315 20 26 
 truelerzunft-twann@bluewin.ch
CATEGORIES:General
URL;VALUE=URI:https://bielersee-tourismus.ch/mc-events/raebebeizli-zum-leue
 stei/
METHOD:PUBLISH
END:VEVENT
END:VCALENDAR