BEGIN:VCALENDAR
VERSION:2.0
PRODID:spatie/icalendar-generator
DESCRIPTION:Veranstaltungen von Bielersee Tourismus
X-WR-CALDESC:Veranstaltungen von Bielersee Tourismus
REFRESH-INTERVAL;VALUE=DURATION:PT1440M
X-PUBLISHED-TTL:PT1440M
BEGIN:VTIMEZONE
TZID:Etc/GMT+0
BEGIN:STANDARD
DTSTART:20201230T103000Z
TZOFFSETFROM:+0000
TZOFFSETTO:+0000
END:STANDARD
END:VTIMEZONE
BEGIN:VTIMEZONE
TZID:UTC
BEGIN:STANDARD
DTSTART:20250726T015311Z
TZOFFSETFROM:+0000
TZOFFSETTO:+0000
END:STANDARD
END:VTIMEZONE
BEGIN:VEVENT
UID:24-22
DTSTAMP:20260422T015311Z
SUMMARY:Wirten auf der Achere
LOCATION:
ORGANIZER;CN=admin:MAILTO:admin@bielersee-tourismus.ch
DTSTART;TZID=Etc/GMT+0:20210926T103000
DTEND;TZID=Etc/GMT+0:20210926T170000
X-ALT-DESC;FMTTYPE=TEXT/HTML:An schönen Sonntagen im Herbst Das Beizli dir
 ekt beim Spielplatz am Rebenweg ist auch ein idealer Ausflugsort für Fami
 lien. Während sich Ihre Kinder auf dem Spielplatz vergnügen\, lassen Sie
  sich bei allerhand Leckereien verwöhnen. Geniessen Sie die schönen Frü
 hlingstage und den Blick auf die liebliche St. Petersinsel. Wie jedes Jahr
  dient der Erlös des Beizlis&amp;hellip\;
CATEGORIES:General
URL;VALUE=URI:https://bielersee-tourismus.ch/mc-events/wirten-auf-der-acher
 e/
METHOD:PUBLISH
END:VEVENT
END:VCALENDAR