BEGIN:VCALENDAR
VERSION:2.0
PRODID:spatie/icalendar-generator
DESCRIPTION:Veranstaltungen von Bielersee Tourismus
X-WR-CALDESC:Veranstaltungen von Bielersee Tourismus
REFRESH-INTERVAL;VALUE=DURATION:PT1440M
X-PUBLISHED-TTL:PT1440M
BEGIN:VTIMEZONE
TZID:Etc/GMT+0
BEGIN:STANDARD
DTSTART:20210629T000000Z
TZOFFSETFROM:+0000
TZOFFSETTO:+0000
END:STANDARD
END:VTIMEZONE
BEGIN:VTIMEZONE
TZID:UTC
BEGIN:STANDARD
DTSTART:20250726T022327Z
TZOFFSETFROM:+0000
TZOFFSETTO:+0000
END:STANDARD
END:VTIMEZONE
BEGIN:VEVENT
UID:173-142
DTSTAMP:20260422T022327Z
SUMMARY:Spielnachmittag
LOCATION:
ORGANIZER;CN=admin:MAILTO:admin@bielersee-tourismus.ch
DTSTART;TZID=Etc/GMT+0;VALUE=DATE:20220326
DTEND;TZID=Etc/GMT+0;VALUE=DATE:20220327
X-ALT-DESC;FMTTYPE=TEXT/HTML:[pdf-embedder url=\"https://bielersee-tourismu
 s.ch/wp-content/uploads/2022/01/Spielnami-22.pdf\" title=\"Spielnami 22\"]
  26.03.2022 14:00 - 17:00 Kontakt: Engel Haus Kultur Anne-Käthi Zweidler 
 079 256 51 19 anne-kaethi.zweidler@bluewin.ch www.zuhauseambielersee.ch/ku
 ltur/
CATEGORIES:General
URL;VALUE=URI:https://bielersee-tourismus.ch/mc-events/spielnachmittag-10/
METHOD:PUBLISH
END:VEVENT
END:VCALENDAR